BEGIN:VCALENDAR
VERSION:2.0
PRODID:-//Waldorfkool L&auml;te - ECPv6.15.20//NONSGML v1.0//EN
CALSCALE:GREGORIAN
METHOD:PUBLISH
X-WR-CALNAME:Waldorfkool L&auml;te
X-ORIGINAL-URL:https://late.ee
X-WR-CALDESC:Events for Waldorfkool L&auml;te
REFRESH-INTERVAL;VALUE=DURATION:PT1H
X-Robots-Tag:noindex
X-PUBLISHED-TTL:PT1H
BEGIN:VTIMEZONE
TZID:Europe/Tallinn
BEGIN:DAYLIGHT
TZOFFSETFROM:+0200
TZOFFSETTO:+0300
TZNAME:EEST
DTSTART:20220327T010000
END:DAYLIGHT
BEGIN:STANDARD
TZOFFSETFROM:+0300
TZOFFSETTO:+0200
TZNAME:EET
DTSTART:20221030T010000
END:STANDARD
BEGIN:DAYLIGHT
TZOFFSETFROM:+0200
TZOFFSETTO:+0300
TZNAME:EEST
DTSTART:20230326T010000
END:DAYLIGHT
BEGIN:STANDARD
TZOFFSETFROM:+0300
TZOFFSETTO:+0200
TZNAME:EET
DTSTART:20231029T010000
END:STANDARD
BEGIN:DAYLIGHT
TZOFFSETFROM:+0200
TZOFFSETTO:+0300
TZNAME:EEST
DTSTART:20240331T010000
END:DAYLIGHT
BEGIN:STANDARD
TZOFFSETFROM:+0300
TZOFFSETTO:+0200
TZNAME:EET
DTSTART:20241027T010000
END:STANDARD
END:VTIMEZONE
BEGIN:VEVENT
DTSTART;TZID=Europe/Tallinn:20230828T183000
DTEND;TZID=Europe/Tallinn:20230828T200000
DTSTAMP:20260420T094409
CREATED:20230809T091038Z
LAST-MODIFIED:20230809T130121Z
UID:780-1693247400-1693252800@late.ee
SUMMARY:HKS Läte üldkogu
DESCRIPTION:Üldkogu päevakord: \n\nHKS Läte 2023/2024 aasta eelarve ja lastevanemate õppemaksu kinnitamine\nHKS Läte 2023/2024 aasta revisjonikomisjoni valimine\, üksnes huviliste olemasolul\nEttepanek võimaldada lastevanematel soovi korral panustada rahaliselt\, kui nad ei soovi või ei jõua Kooli ja Seltsi heaks tehtavate töödes osaleda \nMuud kohapeal algatatud teemad\n\nÜldkogu toimub 28. augustil kell 18:30 Läte kooli söögisaalis. Üldkogul saab sel korral osaleda ainult füüsiliselt kohale tulles. Veebi kaudu osaleda ei saa. \nKohapeal hääletada ja ettepanekuid teha saavad vaid seltsi liikmed. Kui Te veel pole Seltsi liige\, siis võite esitada taotluse liikmeks astumiseks 28. augustil kuni  kella 15:00-ni. \nEelarve tabel koos juhatuse selgitustega ja ettepanekutega on leitav siit: https://bit.ly/2023eelarveselgitused 
URL:https://late.ee/kalender/hks-late-uldkogu/
END:VEVENT
END:VCALENDAR