BEGIN:VCALENDAR
VERSION:2.0
PRODID:-//Waldorfkool L&auml;te - ECPv6.15.20//NONSGML v1.0//EN
CALSCALE:GREGORIAN
METHOD:PUBLISH
X-WR-CALNAME:Waldorfkool L&auml;te
X-ORIGINAL-URL:https://late.ee
X-WR-CALDESC:Events for Waldorfkool L&auml;te
REFRESH-INTERVAL;VALUE=DURATION:PT1H
X-Robots-Tag:noindex
X-PUBLISHED-TTL:PT1H
BEGIN:VTIMEZONE
TZID:Europe/Tallinn
BEGIN:DAYLIGHT
TZOFFSETFROM:+0200
TZOFFSETTO:+0300
TZNAME:EEST
DTSTART:20220327T010000
END:DAYLIGHT
BEGIN:STANDARD
TZOFFSETFROM:+0300
TZOFFSETTO:+0200
TZNAME:EET
DTSTART:20221030T010000
END:STANDARD
BEGIN:DAYLIGHT
TZOFFSETFROM:+0200
TZOFFSETTO:+0300
TZNAME:EEST
DTSTART:20230326T010000
END:DAYLIGHT
BEGIN:STANDARD
TZOFFSETFROM:+0300
TZOFFSETTO:+0200
TZNAME:EET
DTSTART:20231029T010000
END:STANDARD
BEGIN:DAYLIGHT
TZOFFSETFROM:+0200
TZOFFSETTO:+0300
TZNAME:EEST
DTSTART:20240331T010000
END:DAYLIGHT
BEGIN:STANDARD
TZOFFSETFROM:+0300
TZOFFSETTO:+0200
TZNAME:EET
DTSTART:20241027T010000
END:STANDARD
END:VTIMEZONE
BEGIN:VEVENT
DTSTART;TZID=Europe/Tallinn:20231003T183000
DTEND;TZID=Europe/Tallinn:20231003T183000
DTSTAMP:20260421T010037
CREATED:20230918T111212Z
LAST-MODIFIED:20230918T111212Z
UID:922-1696357800-1696357800@late.ee
SUMMARY:Lastevanemate üldkoosolek
DESCRIPTION:
URL:https://late.ee/kalender/lastevanemate-uldkoosolek/
END:VEVENT
BEGIN:VEVENT
DTSTART;VALUE=DATE:20231005
DTEND;VALUE=DATE:20231006
DTSTAMP:20260421T010037
CREATED:20230918T111341Z
LAST-MODIFIED:20230918T111341Z
UID:927-1696464000-1696550399@late.ee
SUMMARY:Õpetajate päev
DESCRIPTION:
URL:https://late.ee/kalender/opetajate-paev/
END:VEVENT
BEGIN:VEVENT
DTSTART;TZID=Europe/Tallinn:20231006T080000
DTEND;TZID=Europe/Tallinn:20231006T083000
DTSTAMP:20260421T010037
CREATED:20230922T061510Z
LAST-MODIFIED:20230922T101436Z
UID:946-1696579200-1696581000@late.ee
SUMMARY:7.klassi sügiseteemaline kohvik
DESCRIPTION:
URL:https://late.ee/kalender/7-klassi-sugiseteemaline-kohvik/
END:VEVENT
BEGIN:VEVENT
DTSTART;TZID=Europe/Tallinn:20231010T080000
DTEND;TZID=Europe/Tallinn:20231010T170000
DTSTAMP:20260421T010037
CREATED:20230918T111620Z
LAST-MODIFIED:20230918T111620Z
UID:929-1696924800-1696957200@late.ee
SUMMARY:Avatud uste päev
DESCRIPTION:
URL:https://late.ee/kalender/avatud-uste-paev/
END:VEVENT
BEGIN:VEVENT
DTSTART;TZID=Europe/Tallinn:20231010T180000
DTEND;TZID=Europe/Tallinn:20231010T183000
DTSTAMP:20260421T010037
CREATED:20230918T112309Z
LAST-MODIFIED:20231009T075129Z
UID:931-1696960800-1696962600@late.ee
SUMMARY:Vanematekooli 1. loeng
DESCRIPTION:kell 18:00 “Miks valida waldorfkool?” \nWaldorfkooli eripärad\, tavad\, rütmid. Põhitund\, Kuupidu. Terviklik lähenemine lapsele. \nLektor: Kaia Mets Buijs
URL:https://late.ee/kalender/vanematekooli-loeng/
END:VEVENT
BEGIN:VEVENT
DTSTART;TZID=Europe/Tallinn:20231018T103000
DTEND;TZID=Europe/Tallinn:20231018T113000
DTSTAMP:20260421T010037
CREATED:20230918T112538Z
LAST-MODIFIED:20230918T112538Z
UID:933-1697625000-1697628600@late.ee
SUMMARY:Kuupidu (1. ainetunni ajal)
DESCRIPTION:
URL:https://late.ee/kalender/kuupidu-1-ainetunni-ajal/
END:VEVENT
BEGIN:VEVENT
DTSTART;TZID=Europe/Tallinn:20231030T200000
DTEND;TZID=Europe/Tallinn:20231030T200000
DTSTAMP:20260421T010037
CREATED:20231009T075005Z
LAST-MODIFIED:20231009T075033Z
UID:1007-1698696000-1698696000@late.ee
SUMMARY:Vanematekooli 2. loeng
DESCRIPTION:kell 18:00 “Kes on kes ehk rollid waldorfkoolis.” \nVestlusringi juhib Jürgen Mets\, II klassi lapsevanem
URL:https://late.ee/kalender/vanematekooli-2-loeng/
END:VEVENT
END:VCALENDAR