BEGIN:VCALENDAR
VERSION:2.0
PRODID:-//Waldorfkool L&auml;te - ECPv6.15.20//NONSGML v1.0//EN
CALSCALE:GREGORIAN
METHOD:PUBLISH
X-WR-CALNAME:Waldorfkool L&auml;te
X-ORIGINAL-URL:https://late.ee
X-WR-CALDESC:Events for Waldorfkool L&auml;te
REFRESH-INTERVAL;VALUE=DURATION:PT1H
X-Robots-Tag:noindex
X-PUBLISHED-TTL:PT1H
BEGIN:VTIMEZONE
TZID:Europe/Tallinn
BEGIN:DAYLIGHT
TZOFFSETFROM:+0200
TZOFFSETTO:+0300
TZNAME:EEST
DTSTART:20220327T010000
END:DAYLIGHT
BEGIN:STANDARD
TZOFFSETFROM:+0300
TZOFFSETTO:+0200
TZNAME:EET
DTSTART:20221030T010000
END:STANDARD
BEGIN:DAYLIGHT
TZOFFSETFROM:+0200
TZOFFSETTO:+0300
TZNAME:EEST
DTSTART:20230326T010000
END:DAYLIGHT
BEGIN:STANDARD
TZOFFSETFROM:+0300
TZOFFSETTO:+0200
TZNAME:EET
DTSTART:20231029T010000
END:STANDARD
BEGIN:DAYLIGHT
TZOFFSETFROM:+0200
TZOFFSETTO:+0300
TZNAME:EEST
DTSTART:20240331T010000
END:DAYLIGHT
BEGIN:STANDARD
TZOFFSETFROM:+0300
TZOFFSETTO:+0200
TZNAME:EET
DTSTART:20241027T010000
END:STANDARD
END:VTIMEZONE
BEGIN:VEVENT
DTSTART;TZID=Europe/Tallinn:20231106T180000
DTEND;TZID=Europe/Tallinn:20231106T190000
DTSTAMP:20260420T232611
CREATED:20231106T100028Z
LAST-MODIFIED:20231106T100028Z
UID:1041-1699293600-1699297200@late.ee
SUMMARY:Klassivanemate koosolek
DESCRIPTION:
URL:https://late.ee/kalender/klassivanemate-koosolek/
END:VEVENT
BEGIN:VEVENT
DTSTART;TZID=Europe/Tallinn:20231108T183000
DTEND;TZID=Europe/Tallinn:20231108T183000
DTSTAMP:20260420T232611
CREATED:20231013T060744Z
LAST-MODIFIED:20231013T060840Z
UID:1025-1699468200-1699468200@late.ee
SUMMARY:HKS Läte nõukogu koosolek
DESCRIPTION:
URL:https://late.ee/kalender/hks-late-noukogu-koosolek/
END:VEVENT
BEGIN:VEVENT
DTSTART;TZID=Europe/Tallinn:20231111T110000
DTEND;TZID=Europe/Tallinn:20231111T150000
DTSTAMP:20260420T232611
CREATED:20231107T095733Z
LAST-MODIFIED:20231107T095808Z
UID:1065-1699700400-1699714800@late.ee
SUMMARY:Lätte Aed võsavõtmise talgud
DESCRIPTION:Küsimused ja lisainfo teretulnud: 5666 6578 (Külvi)
URL:https://late.ee/kalender/latte-aed-vosavotmise-talgud/
END:VEVENT
BEGIN:VEVENT
DTSTART;TZID=Europe/Tallinn:20231119T110000
DTEND;TZID=Europe/Tallinn:20231119T150000
DTSTAMP:20260420T232611
CREATED:20231113T152005Z
LAST-MODIFIED:20231113T152039Z
UID:1074-1700391600-1700406000@late.ee
SUMMARY:Ühine töö kooli hoovis
DESCRIPTION:
URL:https://late.ee/kalender/uhine-too-kooli-hoovis/
END:VEVENT
BEGIN:VEVENT
DTSTART;TZID=Europe/Tallinn:20231129T183000
DTEND;TZID=Europe/Tallinn:20231129T203000
DTSTAMP:20260420T232611
CREATED:20231009T075319Z
LAST-MODIFIED:20231009T075319Z
UID:1011-1701282600-1701289800@late.ee
SUMMARY:Vanematekooli 3. loeng
DESCRIPTION:kell 18:30\n“Seitse tervislikku harjutust täiskasvanule\, et olla paremaks lapsevanemaks”\nLapsevanema vaimne tervis.  Kuidas olla lapse kõrval igapäevaselt hea tasakaalustaja? Kuidas hoida enda ja lapse tervist? Vastastikused mõjud. \nLektor: PhD Ülle Pechter
URL:https://late.ee/kalender/vanematekooli-3-loeng/
END:VEVENT
BEGIN:VEVENT
DTSTART;TZID=Europe/Tallinn:20231130T100000
DTEND;TZID=Europe/Tallinn:20231130T103000
DTSTAMP:20260420T232611
CREATED:20230922T101557Z
LAST-MODIFIED:20231128T114215Z
UID:948-1701338400-1701340200@late.ee
SUMMARY:6. klassi Andresepäeva kohvik (peale põhitundi)
DESCRIPTION:
URL:https://late.ee/kalender/6-klassi-kohvik/
END:VEVENT
END:VCALENDAR