BEGIN:VCALENDAR
VERSION:2.0
PRODID:-//Waldorfkool L&auml;te - ECPv6.15.20//NONSGML v1.0//EN
CALSCALE:GREGORIAN
METHOD:PUBLISH
X-ORIGINAL-URL:https://late.ee
X-WR-CALDESC:Events for Waldorfkool L&auml;te
REFRESH-INTERVAL;VALUE=DURATION:PT1H
X-Robots-Tag:noindex
X-PUBLISHED-TTL:PT1H
BEGIN:VTIMEZONE
TZID:Europe/Tallinn
BEGIN:DAYLIGHT
TZOFFSETFROM:+0200
TZOFFSETTO:+0300
TZNAME:EEST
DTSTART:20230326T010000
END:DAYLIGHT
BEGIN:STANDARD
TZOFFSETFROM:+0300
TZOFFSETTO:+0200
TZNAME:EET
DTSTART:20231029T010000
END:STANDARD
BEGIN:DAYLIGHT
TZOFFSETFROM:+0200
TZOFFSETTO:+0300
TZNAME:EEST
DTSTART:20240331T010000
END:DAYLIGHT
BEGIN:STANDARD
TZOFFSETFROM:+0300
TZOFFSETTO:+0200
TZNAME:EET
DTSTART:20241027T010000
END:STANDARD
BEGIN:DAYLIGHT
TZOFFSETFROM:+0200
TZOFFSETTO:+0300
TZNAME:EEST
DTSTART:20250330T010000
END:DAYLIGHT
BEGIN:STANDARD
TZOFFSETFROM:+0300
TZOFFSETTO:+0200
TZNAME:EET
DTSTART:20251026T010000
END:STANDARD
END:VTIMEZONE
BEGIN:VEVENT
DTSTART;TZID=Europe/Tallinn:20240213T183000
DTEND;TZID=Europe/Tallinn:20240213T200000
DTSTAMP:20260420T180131
CREATED:20240101T234746Z
LAST-MODIFIED:20240101T234746Z
UID:1129-1707849000-1707854400@late.ee
SUMMARY:vanematekooli loeng “Temperamendid“
DESCRIPTION:Äkiline nagu koleerik\, \nnutune nagu melanhoolik\, \naeglane nagu flegmaatik \nvõi karglev nagu sangviinik? \nKes ma oma temperamendilt olen? \n  \nLoengut viivad läbi Karmen Püü ja Ulvi Vahter. 
URL:https://late.ee/kalender/vanematekooli-loeng-temperamendid/
END:VEVENT
BEGIN:VEVENT
DTSTART;VALUE=DATE:20240214
DTEND;VALUE=DATE:20240215
DTSTAMP:20260420T180131
CREATED:20240202T143753Z
LAST-MODIFIED:20240202T143753Z
UID:1203-1707868800-1707955199@late.ee
SUMMARY:kostüümipäev
DESCRIPTION:
URL:https://late.ee/kalender/kostuumipaev/
END:VEVENT
BEGIN:VEVENT
DTSTART;TZID=Europe/Tallinn:20240223T103000
DTEND;TZID=Europe/Tallinn:20240223T130000
DTSTAMP:20260420T180131
CREATED:20240205T085904Z
LAST-MODIFIED:20240205T085904Z
UID:1211-1708684200-1708693200@late.ee
SUMMARY:Eesti Vabariigi aastapäev
DESCRIPTION:10:30 rongkäik Lätte koolist muusikakooli \n11:00 vabariigi aastapäeva aktus Keila Muusikakoolis
URL:https://late.ee/kalender/eesti-vabariigi-aastapaev/
END:VEVENT
END:VCALENDAR