BEGIN:VCALENDAR
VERSION:2.0
PRODID:-//Waldorfkool L&auml;te - ECPv6.15.20//NONSGML v1.0//EN
CALSCALE:GREGORIAN
METHOD:PUBLISH
X-ORIGINAL-URL:https://late.ee
X-WR-CALDESC:Events for Waldorfkool L&auml;te
REFRESH-INTERVAL;VALUE=DURATION:PT1H
X-Robots-Tag:noindex
X-PUBLISHED-TTL:PT1H
BEGIN:VTIMEZONE
TZID:Europe/Tallinn
BEGIN:DAYLIGHT
TZOFFSETFROM:+0200
TZOFFSETTO:+0300
TZNAME:EEST
DTSTART:20230326T010000
END:DAYLIGHT
BEGIN:STANDARD
TZOFFSETFROM:+0300
TZOFFSETTO:+0200
TZNAME:EET
DTSTART:20231029T010000
END:STANDARD
BEGIN:DAYLIGHT
TZOFFSETFROM:+0200
TZOFFSETTO:+0300
TZNAME:EEST
DTSTART:20240331T010000
END:DAYLIGHT
BEGIN:STANDARD
TZOFFSETFROM:+0300
TZOFFSETTO:+0200
TZNAME:EET
DTSTART:20241027T010000
END:STANDARD
BEGIN:DAYLIGHT
TZOFFSETFROM:+0200
TZOFFSETTO:+0300
TZNAME:EEST
DTSTART:20250330T010000
END:DAYLIGHT
BEGIN:STANDARD
TZOFFSETFROM:+0300
TZOFFSETTO:+0200
TZNAME:EET
DTSTART:20251026T010000
END:STANDARD
END:VTIMEZONE
BEGIN:VEVENT
DTSTART;VALUE=DATE:20240313
DTEND;VALUE=DATE:20240314
DTSTAMP:20260420T163511
CREATED:20240202T064412Z
LAST-MODIFIED:20240202T064412Z
UID:1193-1710288000-1710374399@late.ee
SUMMARY:Lahtiste uste päev
DESCRIPTION:
URL:https://late.ee/kalender/lahtiste-uste-paev/
END:VEVENT
BEGIN:VEVENT
DTSTART;TZID=Europe/Tallinn:20240319T183000
DTEND;TZID=Europe/Tallinn:20240319T200000
DTSTAMP:20260420T163511
CREATED:20240101T234856Z
LAST-MODIFIED:20240101T234856Z
UID:1131-1710873000-1710878400@late.ee
SUMMARY:vanematekooli loeng “Teismelised ja piirid”
DESCRIPTION:Teismelistega hakkama saamine – piiride kehtestamine ja vabaks laskmine.  Kuidas vanemana nendes olukordades tegutseda\, mõtelda ja järgi mõtelda. Kuidas aidata nii lapsi kui vanemaid. \n  \nLektor: Riina Harma \nRiina Harma on Aruküla Vaba Waldorfkooli kauaaegne klassiõpetaja\, kes on töötanud ka liitklassidega. 
URL:https://late.ee/kalender/vanematekooli-loeng-teismelised-ja-piirid/
END:VEVENT
BEGIN:VEVENT
DTSTART;VALUE=DATE:20240320
DTEND;VALUE=DATE:20240321
DTSTAMP:20260420T163511
CREATED:20240202T142919Z
LAST-MODIFIED:20240202T142919Z
UID:1198-1710892800-1710979199@late.ee
SUMMARY:kevade alguse kohvik\, VII klass
DESCRIPTION:
URL:https://late.ee/kalender/kevade-alguse-kohvik-vii-klass/
END:VEVENT
END:VCALENDAR