BEGIN:VCALENDAR
VERSION:2.0
PRODID:-//Waldorfkool L&auml;te - ECPv6.15.20//NONSGML v1.0//EN
CALSCALE:GREGORIAN
METHOD:PUBLISH
X-WR-CALNAME:Waldorfkool L&auml;te
X-ORIGINAL-URL:https://late.ee
X-WR-CALDESC:Events for Waldorfkool L&auml;te
REFRESH-INTERVAL;VALUE=DURATION:PT1H
X-Robots-Tag:noindex
X-PUBLISHED-TTL:PT1H
BEGIN:VTIMEZONE
TZID:Europe/Tallinn
BEGIN:DAYLIGHT
TZOFFSETFROM:+0200
TZOFFSETTO:+0300
TZNAME:EEST
DTSTART:20230326T010000
END:DAYLIGHT
BEGIN:STANDARD
TZOFFSETFROM:+0300
TZOFFSETTO:+0200
TZNAME:EET
DTSTART:20231029T010000
END:STANDARD
BEGIN:DAYLIGHT
TZOFFSETFROM:+0200
TZOFFSETTO:+0300
TZNAME:EEST
DTSTART:20240331T010000
END:DAYLIGHT
BEGIN:STANDARD
TZOFFSETFROM:+0300
TZOFFSETTO:+0200
TZNAME:EET
DTSTART:20241027T010000
END:STANDARD
BEGIN:DAYLIGHT
TZOFFSETFROM:+0200
TZOFFSETTO:+0300
TZNAME:EEST
DTSTART:20250330T010000
END:DAYLIGHT
BEGIN:STANDARD
TZOFFSETFROM:+0300
TZOFFSETTO:+0200
TZNAME:EET
DTSTART:20251026T010000
END:STANDARD
END:VTIMEZONE
BEGIN:VEVENT
DTSTART;TZID=Europe/Tallinn:20240508T183000
DTEND;TZID=Europe/Tallinn:20240508T200000
DTSTAMP:20260420T124341
CREATED:20240313T165838Z
LAST-MODIFIED:20240315T074114Z
UID:1240-1715193000-1715198400@late.ee
SUMMARY:vanematekooli loeng "Mida ja mil moel õpetatakse waldorfkoolis 5.- 8. klassis"
DESCRIPTION:Lektor: Keio Kanarbik\, Lätte kooli 2. lennu klassiõpetaja
URL:https://late.ee/kalender/vanematekooli-loeng-mida-ja-mil-moel-opetatakse-waldorfkoolis-5-8-klassis/
END:VEVENT
BEGIN:VEVENT
DTSTART;VALUE=DATE:20240514
DTEND;VALUE=DATE:20240515
DTSTAMP:20260420T124341
CREATED:20240131T102842Z
LAST-MODIFIED:20240131T102842Z
UID:1184-1715644800-1715731199@late.ee
SUMMARY:Huvikooli kontsert
DESCRIPTION:
URL:https://late.ee/kalender/huvikooli-kontsert/
END:VEVENT
BEGIN:VEVENT
DTSTART;VALUE=DATE:20240515
DTEND;VALUE=DATE:20240516
DTSTAMP:20260420T124341
CREATED:20240131T102933Z
LAST-MODIFIED:20240131T102933Z
UID:1186-1715731200-1715817599@late.ee
SUMMARY:Huvikooli kontsert
DESCRIPTION:
URL:https://late.ee/kalender/huvikooli-kontsert-2/
END:VEVENT
BEGIN:VEVENT
DTSTART;VALUE=DATE:20240517
DTEND;VALUE=DATE:20240519
DTSTAMP:20260420T124341
CREATED:20240126T123425Z
LAST-MODIFIED:20240126T123425Z
UID:1163-1715904000-1716076799@late.ee
SUMMARY:Eesti waldorfkoolide olümpiamängud Viljandis
DESCRIPTION:
URL:https://late.ee/kalender/eesti-waldorfkoolide-olumpiamangud-viljandis/
END:VEVENT
BEGIN:VEVENT
DTSTART;VALUE=DATE:20240531
DTEND;VALUE=DATE:20240601
DTSTAMP:20260420T124341
CREATED:20240126T123833Z
LAST-MODIFIED:20240126T123833Z
UID:1165-1717113600-1717199999@late.ee
SUMMARY:Põhikooli lõpueksam - eesti keel
DESCRIPTION:
URL:https://late.ee/kalender/pohikooli-lopueksam-eesti-keel/
END:VEVENT
END:VCALENDAR