BEGIN:VCALENDAR
VERSION:2.0
PRODID:-//Waldorfkool L&auml;te - ECPv6.15.20//NONSGML v1.0//EN
CALSCALE:GREGORIAN
METHOD:PUBLISH
X-ORIGINAL-URL:https://late.ee
X-WR-CALDESC:Events for Waldorfkool L&auml;te
REFRESH-INTERVAL;VALUE=DURATION:PT1H
X-Robots-Tag:noindex
X-PUBLISHED-TTL:PT1H
BEGIN:VTIMEZONE
TZID:Europe/Tallinn
BEGIN:DAYLIGHT
TZOFFSETFROM:+0200
TZOFFSETTO:+0300
TZNAME:EEST
DTSTART:20230326T010000
END:DAYLIGHT
BEGIN:STANDARD
TZOFFSETFROM:+0300
TZOFFSETTO:+0200
TZNAME:EET
DTSTART:20231029T010000
END:STANDARD
BEGIN:DAYLIGHT
TZOFFSETFROM:+0200
TZOFFSETTO:+0300
TZNAME:EEST
DTSTART:20240331T010000
END:DAYLIGHT
BEGIN:STANDARD
TZOFFSETFROM:+0300
TZOFFSETTO:+0200
TZNAME:EET
DTSTART:20241027T010000
END:STANDARD
BEGIN:DAYLIGHT
TZOFFSETFROM:+0200
TZOFFSETTO:+0300
TZNAME:EEST
DTSTART:20250330T010000
END:DAYLIGHT
BEGIN:STANDARD
TZOFFSETFROM:+0300
TZOFFSETTO:+0200
TZNAME:EET
DTSTART:20251026T010000
END:STANDARD
END:VTIMEZONE
BEGIN:VEVENT
DTSTART;VALUE=DATE:20240606
DTEND;VALUE=DATE:20240607
DTSTAMP:20260420T103831
CREATED:20240126T124238Z
LAST-MODIFIED:20240126T124238Z
UID:1167-1717632000-1717718399@late.ee
SUMMARY:Põhikooli lõpueksam - matemaatika
DESCRIPTION:
URL:https://late.ee/kalender/pohikooli-lopueksam-matemaatika/
END:VEVENT
BEGIN:VEVENT
DTSTART;TZID=Europe/Tallinn:20240610T160000
DTEND;TZID=Europe/Tallinn:20240610T170000
DTSTAMP:20260420T103831
CREATED:20240129T094049Z
LAST-MODIFIED:20240129T094049Z
UID:1178-1718035200-1718038800@late.ee
SUMMARY:Kevadpidu
DESCRIPTION:
URL:https://late.ee/kalender/kevadpidu/
END:VEVENT
BEGIN:VEVENT
DTSTART;VALUE=DATE:20240611
DTEND;VALUE=DATE:20240612
DTSTAMP:20260420T103831
CREATED:20240126T124430Z
LAST-MODIFIED:20240126T124430Z
UID:1169-1718064000-1718150399@late.ee
SUMMARY:Viimane koolipäev!
DESCRIPTION:
URL:https://late.ee/kalender/viimane-koolipaev/
END:VEVENT
BEGIN:VEVENT
DTSTART;VALUE=DATE:20240612
DTEND;VALUE=DATE:20240613
DTSTAMP:20260420T103831
CREATED:20240126T124906Z
LAST-MODIFIED:20240126T124906Z
UID:1171-1718150400-1718236799@late.ee
SUMMARY:Põhikooli lõpueksam - valikeksam
DESCRIPTION:
URL:https://late.ee/kalender/pohikooli-lopueksam-valikeksam/
END:VEVENT
BEGIN:VEVENT
DTSTART;VALUE=DATE:20240615
DTEND;VALUE=DATE:20240616
DTSTAMP:20260420T103831
CREATED:20240126T125848Z
LAST-MODIFIED:20240126T125848Z
UID:1173-1718409600-1718495999@late.ee
SUMMARY:IX klassi lõpuaktus
DESCRIPTION:
URL:https://late.ee/kalender/ix-klassi-lopuaktus/
LOCATION:Keila Kultuurikeskus
END:VEVENT
END:VCALENDAR