BEGIN:VCALENDAR
VERSION:2.0
PRODID:-//Waldorfkool L&auml;te - ECPv6.15.20//NONSGML v1.0//EN
CALSCALE:GREGORIAN
METHOD:PUBLISH
X-WR-CALNAME:Waldorfkool L&auml;te
X-ORIGINAL-URL:https://late.ee
X-WR-CALDESC:Events for Waldorfkool L&auml;te
REFRESH-INTERVAL;VALUE=DURATION:PT1H
X-Robots-Tag:noindex
X-PUBLISHED-TTL:PT1H
BEGIN:VTIMEZONE
TZID:Europe/Tallinn
BEGIN:DAYLIGHT
TZOFFSETFROM:+0200
TZOFFSETTO:+0300
TZNAME:EEST
DTSTART:20230326T010000
END:DAYLIGHT
BEGIN:STANDARD
TZOFFSETFROM:+0300
TZOFFSETTO:+0200
TZNAME:EET
DTSTART:20231029T010000
END:STANDARD
BEGIN:DAYLIGHT
TZOFFSETFROM:+0200
TZOFFSETTO:+0300
TZNAME:EEST
DTSTART:20240331T010000
END:DAYLIGHT
BEGIN:STANDARD
TZOFFSETFROM:+0300
TZOFFSETTO:+0200
TZNAME:EET
DTSTART:20241027T010000
END:STANDARD
BEGIN:DAYLIGHT
TZOFFSETFROM:+0200
TZOFFSETTO:+0300
TZNAME:EEST
DTSTART:20250330T010000
END:DAYLIGHT
BEGIN:STANDARD
TZOFFSETFROM:+0300
TZOFFSETTO:+0200
TZNAME:EET
DTSTART:20251026T010000
END:STANDARD
END:VTIMEZONE
BEGIN:VEVENT
DTSTART;TZID=Europe/Tallinn:20240701T093000
DTEND;TZID=Europe/Tallinn:20240703T170000
DTSTAMP:20260420T092133
CREATED:20240617T092140Z
LAST-MODIFIED:20240617T093313Z
UID:1346-1719826200-1720026000@late.ee
SUMMARY:Lätte pillilaager
DESCRIPTION:Juba kuuendat aastat toimuv Lätte pillilaager kutsub lapsi 1.- 3. juuli Rabav matkakodusse Harjumaal. \nLaager algab esmaspäeval\, 1. juulil kell 9:30 kogunemise ja tubadesse jagunemisega. \nAlustame laagriga kell 10.30. \nPillilaagri lõpetab kontsert kolmapäeval\, 3. juulil kell 16:00\, kuhu on lahkesti palutud kõik lapsevanemad ja õed-vennad. \nPillilaagris hüüavad pillid hommikust õhtuni. Aega on nii pillimänguks\, kui ka looduse avastamiseks\, sest asume looduse keskel. Laagris toimuvad individuaalsed pilli- ja ansamblitunnid\, puutöö\, käsitöö ja lugude vestmine/loomine. Lisaks matkame\, teeme lõket\, mängime mänge ja sooja ilma korral ka ujume. Pilliõpetust ja ansamblimängu juhendavad Marta-Helene Hansing\, Helle Suurlaht\, Karl Valter Kungla ja Jaan Eerik Priks. Puutöö toimub Indrek Roosi juhendamisel ning käsitööd juhendab Meeri Meltsa. Laagris osalevad vabatahtlikud lapsevanemad\, kes aitavad laagrielul kätt pulsil hoida. \nLaagris mängime järgmistel pillidel: \nväikekannel\, hiiu kannel\, harf\, karmoška\, viiulLisaks põhipillile on igal lapsel võimalus proovida mängida veel ühte uut pilli (vali lisapill registreerimisel). \nLaagri osalustasu on 110 eurot sisaldades pilliõpet\, majutust ja kõiki toidukordi. \nRegistreerimine laagrisse lõpeb\, kui kohad on täitunud või hiljemalt 1. juunil. \nLisaküsimustega palun helista 55541494 või kirjuta helle@late.ee . \n  \nKohtumiseni laagris! \nHelle
URL:https://late.ee/kalender/latte-pillilaager/
LOCATION:Rabav Puhkekeskus
END:VEVENT
END:VCALENDAR