BEGIN:VCALENDAR
VERSION:2.0
PRODID:-//Waldorfkool L&auml;te - ECPv6.15.20//NONSGML v1.0//EN
CALSCALE:GREGORIAN
METHOD:PUBLISH
X-WR-CALNAME:Waldorfkool L&auml;te
X-ORIGINAL-URL:https://late.ee
X-WR-CALDESC:Events for Waldorfkool L&auml;te
REFRESH-INTERVAL;VALUE=DURATION:PT1H
X-Robots-Tag:noindex
X-PUBLISHED-TTL:PT1H
BEGIN:VTIMEZONE
TZID:Europe/Tallinn
BEGIN:DAYLIGHT
TZOFFSETFROM:+0200
TZOFFSETTO:+0300
TZNAME:EEST
DTSTART:20230326T010000
END:DAYLIGHT
BEGIN:STANDARD
TZOFFSETFROM:+0300
TZOFFSETTO:+0200
TZNAME:EET
DTSTART:20231029T010000
END:STANDARD
BEGIN:DAYLIGHT
TZOFFSETFROM:+0200
TZOFFSETTO:+0300
TZNAME:EEST
DTSTART:20240331T010000
END:DAYLIGHT
BEGIN:STANDARD
TZOFFSETFROM:+0300
TZOFFSETTO:+0200
TZNAME:EET
DTSTART:20241027T010000
END:STANDARD
BEGIN:DAYLIGHT
TZOFFSETFROM:+0200
TZOFFSETTO:+0300
TZNAME:EEST
DTSTART:20250330T010000
END:DAYLIGHT
BEGIN:STANDARD
TZOFFSETFROM:+0300
TZOFFSETTO:+0200
TZNAME:EET
DTSTART:20251026T010000
END:STANDARD
END:VTIMEZONE
BEGIN:VEVENT
DTSTART;VALUE=DATE:20241111
DTEND;VALUE=DATE:20241112
DTSTAMP:20260420T032829
CREATED:20240910T080227Z
LAST-MODIFIED:20240910T080227Z
UID:1419-1731283200-1731369599@late.ee
SUMMARY:Laternamatk
DESCRIPTION:
URL:https://late.ee/kalender/laternamatk/
END:VEVENT
BEGIN:VEVENT
DTSTART;VALUE=DATE:20241111
DTEND;VALUE=DATE:20241112
DTSTAMP:20260420T032829
CREATED:20240913T070119Z
LAST-MODIFIED:20240913T070119Z
UID:1440-1731283200-1731369599@late.ee
SUMMARY:VII klassi kohvik
DESCRIPTION:
URL:https://late.ee/kalender/vii-klassi-kohvik/
END:VEVENT
BEGIN:VEVENT
DTSTART;TZID=Europe/Tallinn:20241126T183000
DTEND;TZID=Europe/Tallinn:20241126T200000
DTSTAMP:20260420T032829
CREATED:20241009T062227Z
LAST-MODIFIED:20241009T062227Z
UID:1527-1732645800-1732651200@late.ee
SUMMARY:“Religioon\, kunst ja teadus waldorfkoolis“  Sulev Ojap
DESCRIPTION:
URL:https://late.ee/kalender/religioon-kunst-ja-teadus-waldorfkoolis-sulev-ojap/
END:VEVENT
END:VCALENDAR