BEGIN:VCALENDAR
VERSION:2.0
PRODID:-//Waldorfkool L&auml;te - ECPv6.15.20//NONSGML v1.0//EN
CALSCALE:GREGORIAN
METHOD:PUBLISH
X-WR-CALNAME:Waldorfkool L&auml;te
X-ORIGINAL-URL:https://late.ee
X-WR-CALDESC:Events for Waldorfkool L&auml;te
REFRESH-INTERVAL;VALUE=DURATION:PT1H
X-Robots-Tag:noindex
X-PUBLISHED-TTL:PT1H
BEGIN:VTIMEZONE
TZID:Europe/Tallinn
BEGIN:DAYLIGHT
TZOFFSETFROM:+0200
TZOFFSETTO:+0300
TZNAME:EEST
DTSTART:20230326T010000
END:DAYLIGHT
BEGIN:STANDARD
TZOFFSETFROM:+0300
TZOFFSETTO:+0200
TZNAME:EET
DTSTART:20231029T010000
END:STANDARD
BEGIN:DAYLIGHT
TZOFFSETFROM:+0200
TZOFFSETTO:+0300
TZNAME:EEST
DTSTART:20240331T010000
END:DAYLIGHT
BEGIN:STANDARD
TZOFFSETFROM:+0300
TZOFFSETTO:+0200
TZNAME:EET
DTSTART:20241027T010000
END:STANDARD
BEGIN:DAYLIGHT
TZOFFSETFROM:+0200
TZOFFSETTO:+0300
TZNAME:EEST
DTSTART:20250330T010000
END:DAYLIGHT
BEGIN:STANDARD
TZOFFSETFROM:+0300
TZOFFSETTO:+0200
TZNAME:EET
DTSTART:20251026T010000
END:STANDARD
BEGIN:DAYLIGHT
TZOFFSETFROM:+0200
TZOFFSETTO:+0300
TZNAME:EEST
DTSTART:20260329T010000
END:DAYLIGHT
BEGIN:STANDARD
TZOFFSETFROM:+0300
TZOFFSETTO:+0200
TZNAME:EET
DTSTART:20261025T010000
END:STANDARD
END:VTIMEZONE
BEGIN:VEVENT
DTSTART;VALUE=DATE:20241223
DTEND;VALUE=DATE:20250107
DTSTAMP:20260420T005805
CREATED:20241219T114354Z
LAST-MODIFIED:20241219T114354Z
UID:1621-1734912000-1736207999@late.ee
SUMMARY:Jõuluvaheaeg
DESCRIPTION:
URL:https://late.ee/kalender/jouluvaheaeg/
END:VEVENT
BEGIN:VEVENT
DTSTART;TZID=Europe/Tallinn:20250114T073000
DTEND;TZID=Europe/Tallinn:20250114T083000
DTSTAMP:20260420T005805
CREATED:20250110T085956Z
LAST-MODIFIED:20250111T180225Z
UID:1650-1736839800-1736843400@late.ee
SUMMARY:Taliharjapäeva kohvik
DESCRIPTION:Kell 7:45 – 8:28\nKorraldab VIII klass.
URL:https://late.ee/kalender/taliharjapaeva-kohvik/
END:VEVENT
BEGIN:VEVENT
DTSTART;TZID=Europe/Tallinn:20250118T103000
DTEND;TZID=Europe/Tallinn:20250118T120000
DTSTAMP:20260420T005805
CREATED:20250110T090150Z
LAST-MODIFIED:20250110T090726Z
UID:1652-1737196200-1737201600@late.ee
SUMMARY:Eelkool
DESCRIPTION:Lapsevanematele toimub samal ajal loeng teemal “Põhitund ja igapäevaelu waldorfkoolis”.
URL:https://late.ee/kalender/eelkool/
END:VEVENT
BEGIN:VEVENT
DTSTART;TZID=Europe/Tallinn:20250121T183000
DTEND;TZID=Europe/Tallinn:20250121T200000
DTSTAMP:20260420T005805
CREATED:20241009T062416Z
LAST-MODIFIED:20250110T091204Z
UID:1531-1737484200-1737489600@late.ee
SUMMARY:Vanematekooli loeng
DESCRIPTION:“Lapsevanemana waldorfkoolis – võlu ja valu“\nLektor: Aivar Simmermann
URL:https://late.ee/kalender/lapsevanemana-waldorfkoolis-volu-ja-valu-aivar-simmermann/
END:VEVENT
END:VCALENDAR