BEGIN:VCALENDAR
VERSION:2.0
PRODID:-//Waldorfkool L&auml;te - ECPv6.15.20//NONSGML v1.0//EN
CALSCALE:GREGORIAN
METHOD:PUBLISH
X-WR-CALNAME:Waldorfkool L&auml;te
X-ORIGINAL-URL:https://late.ee
X-WR-CALDESC:Events for Waldorfkool L&auml;te
REFRESH-INTERVAL;VALUE=DURATION:PT1H
X-Robots-Tag:noindex
X-PUBLISHED-TTL:PT1H
BEGIN:VTIMEZONE
TZID:Europe/Tallinn
BEGIN:DAYLIGHT
TZOFFSETFROM:+0200
TZOFFSETTO:+0300
TZNAME:EEST
DTSTART:20240331T010000
END:DAYLIGHT
BEGIN:STANDARD
TZOFFSETFROM:+0300
TZOFFSETTO:+0200
TZNAME:EET
DTSTART:20241027T010000
END:STANDARD
BEGIN:DAYLIGHT
TZOFFSETFROM:+0200
TZOFFSETTO:+0300
TZNAME:EEST
DTSTART:20250330T010000
END:DAYLIGHT
BEGIN:STANDARD
TZOFFSETFROM:+0300
TZOFFSETTO:+0200
TZNAME:EET
DTSTART:20251026T010000
END:STANDARD
BEGIN:DAYLIGHT
TZOFFSETFROM:+0200
TZOFFSETTO:+0300
TZNAME:EEST
DTSTART:20260329T010000
END:DAYLIGHT
BEGIN:STANDARD
TZOFFSETFROM:+0300
TZOFFSETTO:+0200
TZNAME:EET
DTSTART:20261025T010000
END:STANDARD
END:VTIMEZONE
BEGIN:VEVENT
DTSTART;TZID=Europe/Tallinn:20250211T183000
DTEND;TZID=Europe/Tallinn:20250211T200000
DTSTAMP:20260419T233936
CREATED:20250111T180148Z
LAST-MODIFIED:20250129T084412Z
UID:1674-1739298600-1739304000@late.ee
SUMMARY:Vanematekooli loeng
DESCRIPTION:“Pühadus ja pühitsemine” Lektor: Heidi Reimann
URL:https://late.ee/kalender/vanematekooli-loeng-mis-vaarib-elus-tahistamist-mis-vaarib-elus-puhitsemist-heidi-reimann/
END:VEVENT
BEGIN:VEVENT
DTSTART;VALUE=DATE:20250212
DTEND;VALUE=DATE:20250213
DTSTAMP:20260419T233936
CREATED:20250129T083613Z
LAST-MODIFIED:20250129T083613Z
UID:1714-1739318400-1739404799@late.ee
SUMMARY:Sõbrapäeva kohvik
DESCRIPTION:
URL:https://late.ee/kalender/sobrapaeva-kohvik/
END:VEVENT
BEGIN:VEVENT
DTSTART;TZID=Europe/Tallinn:20250215T103000
DTEND;TZID=Europe/Tallinn:20250215T120000
DTSTAMP:20260419T233936
CREATED:20250110T090223Z
LAST-MODIFIED:20250110T090805Z
UID:1654-1739615400-1739620800@late.ee
SUMMARY:Eelkool
DESCRIPTION:Lapsevanematele toimub samal ajal loeng: “Mida ja kuidas õpitakse waldorfkooli I ja II klassis”
URL:https://late.ee/kalender/eelkool-2/
END:VEVENT
BEGIN:VEVENT
DTSTART;TZID=Europe/Tallinn:20250220T103000
DTEND;TZID=Europe/Tallinn:20250220T111500
DTSTAMP:20260419T233936
CREATED:20250110T085749Z
LAST-MODIFIED:20250218T073558Z
UID:1648-1740047400-1740050100@late.ee
SUMMARY:Eesti Vabariigi aastapäeva tähistamine
DESCRIPTION:Vabariigi aastapäeva aktus Teraapiamaja saalis
URL:https://late.ee/kalender/eesti-vabariigi-aastapaeva-tahistamine/
END:VEVENT
END:VCALENDAR