BEGIN:VCALENDAR
VERSION:2.0
PRODID:-//Waldorfkool L&auml;te - ECPv6.15.20//NONSGML v1.0//EN
CALSCALE:GREGORIAN
METHOD:PUBLISH
X-WR-CALNAME:Waldorfkool L&auml;te
X-ORIGINAL-URL:https://late.ee
X-WR-CALDESC:Events for Waldorfkool L&auml;te
REFRESH-INTERVAL;VALUE=DURATION:PT1H
X-Robots-Tag:noindex
X-PUBLISHED-TTL:PT1H
BEGIN:VTIMEZONE
TZID:Europe/Tallinn
BEGIN:DAYLIGHT
TZOFFSETFROM:+0200
TZOFFSETTO:+0300
TZNAME:EEST
DTSTART:20240331T010000
END:DAYLIGHT
BEGIN:STANDARD
TZOFFSETFROM:+0300
TZOFFSETTO:+0200
TZNAME:EET
DTSTART:20241027T010000
END:STANDARD
BEGIN:DAYLIGHT
TZOFFSETFROM:+0200
TZOFFSETTO:+0300
TZNAME:EEST
DTSTART:20250330T010000
END:DAYLIGHT
BEGIN:STANDARD
TZOFFSETFROM:+0300
TZOFFSETTO:+0200
TZNAME:EET
DTSTART:20251026T010000
END:STANDARD
BEGIN:DAYLIGHT
TZOFFSETFROM:+0200
TZOFFSETTO:+0300
TZNAME:EEST
DTSTART:20260329T010000
END:DAYLIGHT
BEGIN:STANDARD
TZOFFSETFROM:+0300
TZOFFSETTO:+0200
TZNAME:EET
DTSTART:20261025T010000
END:STANDARD
END:VTIMEZONE
BEGIN:VEVENT
DTSTART;TZID=Europe/Tallinn:20250304T183000
DTEND;TZID=Europe/Tallinn:20250304T200000
DTSTAMP:20260419T215427
CREATED:20250111T180610Z
LAST-MODIFIED:20250111T180610Z
UID:1680-1741113000-1741118400@late.ee
SUMMARY:Vanematekooli loeng
DESCRIPTION:Teismelised – Reaalsus ja paralleelreaalsus” Lektor: Riina Harma
URL:https://late.ee/kalender/vanematekooli-loeng-2/
END:VEVENT
BEGIN:VEVENT
DTSTART;VALUE=DATE:20250311
DTEND;VALUE=DATE:20250312
DTSTAMP:20260419T215427
CREATED:20250307T142026Z
LAST-MODIFIED:20250307T142026Z
UID:1751-1741651200-1741737599@late.ee
SUMMARY:Lahtiste uste päev
DESCRIPTION:
URL:https://late.ee/kalender/lahtiste-uste-paev-2/
END:VEVENT
BEGIN:VEVENT
DTSTART;TZID=Europe/Tallinn:20250315T103000
DTEND;TZID=Europe/Tallinn:20250315T120000
DTSTAMP:20260419T215427
CREATED:20250110T090556Z
LAST-MODIFIED:20250110T090839Z
UID:1656-1742034600-1742040000@late.ee
SUMMARY:Eelkool
DESCRIPTION:Lapsevanematele toimub samal ajal loeng: “Kasvatus läbi kunsti – waldorfkool”
URL:https://late.ee/kalender/eelkool-3/
END:VEVENT
BEGIN:VEVENT
DTSTART;TZID=Europe/Tallinn:20250326T183000
DTEND;TZID=Europe/Tallinn:20250326T200000
DTSTAMP:20260419T215427
CREATED:20250111T180708Z
LAST-MODIFIED:20250312T100632Z
UID:1683-1743013800-1743019200@late.ee
SUMMARY:Vanematekooli loeng "Muusika\, pillid ja improvisatsioon waldorfkoolis"
DESCRIPTION:Kuidas teevad lapsed waldorfkoolis muusikat? Kas nad õpivad ka noote? “Vaiksest valjuni” – räägime muusikast ja inimhingest\, muusika õpetamisest ning teeme ka ise muusikat.\nJuhendab Helle Suurlaht
URL:https://late.ee/kalender/vanematekooli-loeng-3/
END:VEVENT
END:VCALENDAR